BEGIN:VCALENDAR
VERSION:2.0
PRODID:-//ChurchDev//Events//EN
CALSCALE:GREGORIAN
METHOD:PUBLISH
BEGIN:VEVENT
UID:3405-20260401@www.odessabaptistchurch.com
SUMMARY:Women&#8217\;s Bible Study
DTSTART:20260401T133000Z
DTEND:20260401T143000Z
DESCRIPTION:https://www.odessabaptistchurch.com/events/womens-bible-study/
LOCATION:111 Fowler Pl\, Odessa\, NY 14869\, USA
URL:https://www.odessabaptistchurch.com/events/womens-bible-study/
DTSTAMP:20260419T230955Z
END:VEVENT
END:VCALENDAR
