BEGIN:VCALENDAR
VERSION:2.0
PRODID:-//ChurchDev//Events//EN
CALSCALE:GREGORIAN
METHOD:PUBLISH
BEGIN:VEVENT
UID:3406-20260405@www.odessabaptistchurch.com
SUMMARY:Easter Sunrise Service
DTSTART:20260405T103000Z
DTEND:20260405T113000Z
DESCRIPTION:Join us for Easter sunrise service with bonfire and a hot breakfast following the service.\\n\\nhttps://www.odessabaptistchurch.com/events/easter-sunrise-service/
LOCATION:111 Fowler Pl\, Odessa\, NY 14869\, USA
URL:https://www.odessabaptistchurch.com/events/easter-sunrise-service/
DTSTAMP:20260419T230924Z
END:VEVENT
END:VCALENDAR
