BEGIN:VCALENDAR
VERSION:2.0
PRODID:-//ChurchDev//Events//EN
CALSCALE:GREGORIAN
METHOD:PUBLISH
BEGIN:VEVENT
UID:3407-20260419@www.odessabaptistchurch.com
SUMMARY:Resurrected Worship
DTSTART:20260419T210000Z
DTEND:20260419T223000Z
DESCRIPTION:Join us for an intimate evening of music and open discussion of God&#039\;s Word\\n\\nhttps://www.odessabaptistchurch.com/events/resurrected-worship-3/
LOCATION:111 Fowler Pl\, Odessa\, NY 14869\, USA
URL:https://www.odessabaptistchurch.com/events/resurrected-worship-3/
DTSTAMP:20260419T230839Z
END:VEVENT
END:VCALENDAR
