BEGIN:VCALENDAR
VERSION:2.0
PRODID:-//ChurchDev//Events//EN
CALSCALE:GREGORIAN
METHOD:PUBLISH
BEGIN:VEVENT
UID:3409-20260402@www.odessabaptistchurch.com
SUMMARY:Maundy Thursday Communion Service
DTSTART:20260402T220000Z
DTEND:20260402T233000Z
DESCRIPTION:https://www.odessabaptistchurch.com/events/maundy-thursday-communion-service/
LOCATION:111 Fowler Place\, Odessa NY 14869
URL:https://www.odessabaptistchurch.com/events/maundy-thursday-communion-service/
DTSTAMP:20260419T230922Z
END:VEVENT
END:VCALENDAR
