BEGIN:VCALENDAR
VERSION:2.0
PRODID:-//ChurchDev//Events//EN
CALSCALE:GREGORIAN
METHOD:PUBLISH
BEGIN:VEVENT
UID:3411-20260405@www.odessabaptistchurch.com
SUMMARY:Sunday School
DTSTART:20260405T133000Z
DTEND:20260405T143000Z
DESCRIPTION:https://www.odessabaptistchurch.com/events/sunday-school-2/
LOCATION:111 Fowler Place\, Odessa NY 14869
URL:https://www.odessabaptistchurch.com/events/sunday-school-2/
DTSTAMP:20260419T230929Z
END:VEVENT
END:VCALENDAR
