BEGIN:VCALENDAR
VERSION:2.0
PRODID:-//ChurchDev//Events//EN
CALSCALE:GREGORIAN
METHOD:PUBLISH
BEGIN:VEVENT
UID:3414-20260404@www.odessabaptistchurch.com
SUMMARY:Men&#8217\;s Bible Study
DTSTART:20260404T103000Z
DTEND:20260404T120000Z
DESCRIPTION:https://www.odessabaptistchurch.com/events/mens-bible-study/
LOCATION:111 Fowler Place\, Odessa NY 14869
URL:https://www.odessabaptistchurch.com/events/mens-bible-study/
DTSTAMP:20260419T230931Z
END:VEVENT
END:VCALENDAR
