BEGIN:VCALENDAR
VERSION:2.0
PRODID:-//ChurchDev//Events//EN
CALSCALE:GREGORIAN
METHOD:PUBLISH
BEGIN:VEVENT
UID:3418-20260418@www.odessabaptistchurch.com
SUMMARY:Church Workday
DTSTART:20260418T130000Z
DTEND:20260418T160000Z
DESCRIPTION:https://www.odessabaptistchurch.com/events/church-workday/
LOCATION:111 Fowler Place\, Odessa NY 14869
URL:https://www.odessabaptistchurch.com/events/church-workday/
DTSTAMP:20260419T230840Z
END:VEVENT
END:VCALENDAR
